BEGIN:VCALENDAR
VERSION:2.0
PRODID:-//Mark Miller Business Coaching - ECPv6.15.20//NONSGML v1.0//EN
CALSCALE:GREGORIAN
METHOD:PUBLISH
X-ORIGINAL-URL:https://flywheelllc.net
X-WR-CALDESC:Events for Mark Miller Business Coaching
REFRESH-INTERVAL;VALUE=DURATION:PT1H
X-Robots-Tag:noindex
X-PUBLISHED-TTL:PT1H
BEGIN:VTIMEZONE
TZID:Africa/Abidjan
BEGIN:STANDARD
TZOFFSETFROM:+0000
TZOFFSETTO:+0000
TZNAME:GMT
DTSTART:20250101T000000
END:STANDARD
END:VTIMEZONE
BEGIN:VTIMEZONE
TZID:America/New_York
BEGIN:DAYLIGHT
TZOFFSETFROM:-0500
TZOFFSETTO:-0400
TZNAME:EDT
DTSTART:20190310T070000
END:DAYLIGHT
BEGIN:STANDARD
TZOFFSETFROM:-0400
TZOFFSETTO:-0500
TZNAME:EST
DTSTART:20191103T060000
END:STANDARD
BEGIN:DAYLIGHT
TZOFFSETFROM:-0500
TZOFFSETTO:-0400
TZNAME:EDT
DTSTART:20200308T070000
END:DAYLIGHT
BEGIN:STANDARD
TZOFFSETFROM:-0400
TZOFFSETTO:-0500
TZNAME:EST
DTSTART:20201101T060000
END:STANDARD
BEGIN:DAYLIGHT
TZOFFSETFROM:-0500
TZOFFSETTO:-0400
TZNAME:EDT
DTSTART:20210314T070000
END:DAYLIGHT
BEGIN:STANDARD
TZOFFSETFROM:-0400
TZOFFSETTO:-0500
TZNAME:EST
DTSTART:20211107T060000
END:STANDARD
BEGIN:DAYLIGHT
TZOFFSETFROM:-0500
TZOFFSETTO:-0400
TZNAME:EDT
DTSTART:20220313T070000
END:DAYLIGHT
BEGIN:STANDARD
TZOFFSETFROM:-0400
TZOFFSETTO:-0500
TZNAME:EST
DTSTART:20221106T060000
END:STANDARD
BEGIN:DAYLIGHT
TZOFFSETFROM:-0500
TZOFFSETTO:-0400
TZNAME:EDT
DTSTART:20230312T070000
END:DAYLIGHT
BEGIN:STANDARD
TZOFFSETFROM:-0400
TZOFFSETTO:-0500
TZNAME:EST
DTSTART:20231105T060000
END:STANDARD
BEGIN:DAYLIGHT
TZOFFSETFROM:-0500
TZOFFSETTO:-0400
TZNAME:EDT
DTSTART:20240310T070000
END:DAYLIGHT
BEGIN:STANDARD
TZOFFSETFROM:-0400
TZOFFSETTO:-0500
TZNAME:EST
DTSTART:20241103T060000
END:STANDARD
BEGIN:DAYLIGHT
TZOFFSETFROM:-0500
TZOFFSETTO:-0400
TZNAME:EDT
DTSTART:20250309T070000
END:DAYLIGHT
BEGIN:STANDARD
TZOFFSETFROM:-0400
TZOFFSETTO:-0500
TZNAME:EST
DTSTART:20251102T060000
END:STANDARD
BEGIN:DAYLIGHT
TZOFFSETFROM:-0500
TZOFFSETTO:-0400
TZNAME:EDT
DTSTART:20260308T070000
END:DAYLIGHT
BEGIN:STANDARD
TZOFFSETFROM:-0400
TZOFFSETTO:-0500
TZNAME:EST
DTSTART:20261101T060000
END:STANDARD
END:VTIMEZONE
BEGIN:VEVENT
DTSTART;TZID=Africa/Abidjan:20260205T083000
DTEND;TZID=Africa/Abidjan:20260205T163000
DTSTAMP:20260423T113230
CREATED:20251007T101321Z
LAST-MODIFIED:20251204T142757Z
UID:212543-1770280200-1770309000@flywheelllc.net
SUMMARY:Scaling Up Business Growth Workshop
DESCRIPTION:Are You Ready To Grow Your Business & Break Through The Barriers To Sustainable Growth?\n\n\n\nThe Scaling Up Business Growth Workshop is your key to accelerating profitable growth. Join over 80\,000 successful executives who have transformed their businesses using the proven Scaling Up methodology. This intensive workshop\, led by certified coach Mark Miller\, will help you understand strategy\, execute flawlessly\, attract top talent\, and boost cash flow. Invest in your business’s future and see tangible results. Don’t miss this opportunity to elevate your business to the next level. \n\n\n\nPeople — Attract and retain A-Player talent and build a team that produces consistent results. \nStrategy — Align your business with a powerful strategy that differentiates your offering and is viewed as unique in the marketplace. \nExecution — Build an accountability system that assures that things get done when they are supposed to get done. \nCash — Generate cash reserves internally minimizing the need for outside financial resources. \n\n\n\n\nCEOs\, business owners\, leadership team members and department managers wanting to know more aboout how the Scaling Up performance platform can impact their buisness should attend. For maximum impact\, bring your entire leadership team to achieve full alignment and understandng of the Scaling Up tools. Led by certified Scaling Up Coach Mark Miller\, you’ll gain practical strategies that you can put to work the next day. \n\n\n\n\n\nEvery company faces critical decisions that it must get right to maximize revenue\, profit and time. This workshop delves into these 4 key decision areas: People\, Strategy\, Execution and Cash. \n  \nHere is an overview of what the workshop will cover.\n\n\n\nAll Workshop Participants Will Receive:\n\nA copy of the Scaling Up book\nThe One Page Strategic Plan and other important tools\nCompanies who bring 3 or more leaders will also receive a complimentary follow-up coaching call to answer any additional questions and help ensure execution.\n\n  \nSchedule:\n\nDoors open at 8:00 for registration and coffee.\nTake your lunch break with your team at one of the local restaurants\nThe event will run from 8:30 am to 4:30 pm.\n\n  \nWant to Learn More? \nEmail questions to: mark@flywheelllc.net \nPhone: 484-364-1798 \nWebsite: https://flywheelllc.net/ \n\n\n\n\n\nMark Miller\, founder of Flywheel LLC\, accelerates growth in mid-market companies. Certified in Scaling Up and Metronomics (3HAG Way)\, he implements disciplined growth frameworks to drive scalability\, teamwork\, and transformation. \nMark’s expertise includes strategic planning\, healthy company cultures\, and resolving personnel issues. With over 30 years of experience\, including leading his family’s business turnaround and serving as COO\, he has scaled companies to new heights. \nMark coaches CEOs and leadership teams to achieve business goals faster and with less stress\, enabling more freedom and growth momentum.
URL:https://flywheelllc.net/event/scaling-up-business-growth-workshop-6/
LOCATION:Residence Inn by Marriott Bethesda Downtown\, 7335 Wisconsin Avenue\, Bethesda\, MD 20814\, Bethesda\, MD\, 20814\, US
ATTACH;FMTTYPE=image/png:https://flywheelllc.net/wp-content/uploads/2025/10/212543_image.png
END:VEVENT
BEGIN:VEVENT
DTSTART;TZID=America/New_York:20250128T083000
DTEND;TZID=America/New_York:20250128T163000
DTSTAMP:20260423T113230
CREATED:20240906T101917Z
LAST-MODIFIED:20250102T103526Z
UID:212523-1738053000-1738081800@flywheelllc.net
SUMMARY:Scaling Up Business Growth Workshop
DESCRIPTION:Are You Ready To Grow Your Business & Break Through The Barriers To Sustainable Growth?\n\n\n\nThe Scaling Up Business Growth Workshop is your key to accelerating profitable growth. Join over 80\,000 successful executives who have transformed their businesses using the proven Scaling Up methodology. This intensive workshop\, led by certified coaches\, will help you develop strategic plans\, execute flawlessly\, attract top talent\, and boost cash flow. Invest in your business’s future and see tangible results. Don’t miss this opportunity to elevate your business to the next level. \n\n\n\nPeople — Attract and retain A-Player talent and build a team that produces consistent results. \nStrategy — Align your business with a powerful strategy that differentiates your offering and is viewed as unique in the marketplace. \nExecution — Build an accountability system that assures that things get done when they are supposed to get done. \nCash — Generate cash reserves internally minimizing the need for outside financial resources. \n\n\n\n\nCEOs and their teams should attend the Scaling Up Business Growth Workshop to achieve exceptional growth and efficiency. This proven program helps you align your team\, boost profits\, attract top talent\, and execute flawlessly. Led by certified coaches\, you’ll gain practical strategies to stay ahead of industry trends. Invest in your business’s future success and don’t miss this opportunity to elevate your business. \n\n\n\n\nAll Workshop Participants Will Receive:\n\nA copy of the Scaling Up book\nThe One Page Strategic Plan and other important tools\nCompanies who bring 3 or more leaders will also receive a complimentary follow-up coaching call to answer any additional questions and help ensure execution.\n\n  \nSchedule:\n\nDoors open at 8:00 for registration and coffee.\nTake your lunch break with your team at one of the local restaurants\nThe event will run from 8:30 am to 4:30 pm.\n\n  \nWant to Learn More? \nEmail questions to: mark@flywheelllc.net \nPhone: 484-364-1798 \nWebsite: https://flywheelllc.net/ \n\n\n\n\n\nMark Miller\, founder of Flywheel LLC\, accelerates growth in mid-market companies. Certified in Scaling Up and Metronomics (3HAG Way)\, he implements disciplined growth frameworks to drive scalability\, teamwork\, and transformation. \nMark’s expertise includes strategic planning\, healthy company cultures\, and resolving personnel issues. With over 30 years of experience\, including leading his family’s business turnaround and serving as COO\, he has scaled companies to new heights. \nMark coaches CEOs and leadership teams to achieve business goals faster and with less stress\, enabling more freedom and growth momentum.
URL:https://flywheelllc.net/event/scaling-up-business-growth-workshop-5/
LOCATION:Residence Inn Bethesda Downtown\, 7335 Wisconsin Avenue\, Bethesda\, MD 20814\, Bethesda\, MD\, 20814\, US
ATTACH;FMTTYPE=image/png:https://flywheelllc.net/wp-content/uploads/2024/09/212523_image.png
END:VEVENT
BEGIN:VEVENT
DTSTART;TZID=America/New_York:20240627T083000
DTEND;TZID=America/New_York:20240627T163000
DTSTAMP:20260423T113230
CREATED:20240408T082836Z
LAST-MODIFIED:20240408T082836Z
UID:212512-1719477000-1719505800@flywheelllc.net
SUMMARY:Scaling Up Business Growth Workshop
DESCRIPTION:Are You Ready To Grow Your Business & Break Through The Barriers To Sustainable Growth?\n\n\nScaling Up Business Growth Workshop\nDiscover how to Scale Up your business using the Scaling Up platform and Rockefeller Habits 2.0. \nThis world-renowned Scaling Up Business Growth Workshop empowers you to accelerate profitable growth using a time-tested and results-driven methodology that more than 40\,000 executives and their leadership teams have used to scale up smarter. There are critical decisions each company must get right to maximize revenue\, profit and time. \nWHAT YOU’LL LEARN IN THE WORKSHOP: In just one day\, you will learn the essentials that make the Scaling Up system work. Learn through best practices\, lectures\, videos\, hands-on exercises\, group discussions and coaching demonstrations. We’ll help you master the Four Decisions (People\, Strategy\, Execution and Cash) and give you the tools to strengthen alignment\, accountability and effectiveness within your organization. \n \nThe fundamental topics covered are:\nPeople — Attract and retain A-Player talent and build a team that produces consistent results. \nStrategy — Align your business around a powerful strategy that clearly differentiates your offering and is viewed as unique in the marketplace. \nExecution — Build an accountability system that assures that things get done when they are supposed to get done. \nCash — Generate cash reserves internally minimizing the need for outside financial resources. \n\n\n\nWHO SHOULD ATTEND?\nThis course is open to CEOs\, business owners\, and business leaders interested in amplifying their success and scaling up their businesses via a proven growth framework. We welcome leaders who are learners and are passionate about building a high-performing organization through best practices and thought leadership. As Scaling Up effectiveness is directly impacted by team cohesion\, we encourage CEOs and their leadership team to attend together to maximize the execution results and return on investment. \n \nGROWTH OUTCOMES\nWhen Scaling UP tools are successfully implemented\, scaling up businesses typically achieve: \n\n2X increase in cash flow\n3X industry profitability\nValuation increases compared to the competition\nMore time for the right things\, and\nEnjoying the climb to success!\n\nAll Workshop Participants Will Receive: \n\nA copy of the Scaling Up book\nThe One Page Strategic Plan and other important tools\nCompanies who bring 3 or more leaders will also receive a complimentary follow-up coaching call to answer any additional questions and help ensure execution.\n\nSchedule: \n\nDoors open at 8:00 for registration and coffee.\nTake your lunch break with your team at one of the local restaurants\nThe event will run from 8:30 am to 4:30 pm.\n\n \nWant to Learn More? \nEmail questions to: mark@flywheelllc.net \nPhone: 484-364-1798 \nWebsite: https://flywheelllc.net/ \n\n\n\n\nMark Miller is the founder of Flywheel LLC\, a business coaching practice dedicated to accelerating growth in mid-market companies. Certified in both the Scaling Up and Metronomics (3HAG Way) methodologies\, Mark empowers companies through the implementation of a disciplined growth framework that drives scalability\, teamwork and breakthrough transformation. \nMark helps companies identify growth inhibitors and sequence action steps to grow faster\, more predictably and with less drama. His expertise includes strategic planning\, cultivating healthy company cultures\, navigating difficult personnel and organizational structure issues\, and incorporating disciplines to drive alignment and operating performance. \nMark brings over 30 years of business and coaching experience spanning multiple industries.. Along with spearheading the financial turnaround of his own family’s business\, Mark gained progressive senior leadership experience in several mid-market companies including 10 years as COO. where he helped scale two different companies to new heights. \nMark coaches CEOs and their leadership teams through the implementation of the strategic-execution growth framework\, helping them to avoid blindspots and achieve their business goals faster and with less stress. This scalability enables more freedom and impact for the leaders\, which creates even more momentum for growth. \n\n\n\nLearn More About the Scaling Up Business Growth Workshop from Verne Harnish.
URL:https://flywheelllc.net/event/scaling-up-business-growth-workshop-4/
LOCATION:AC Hotel by Marriott Washington DC Capitol Hill Navy Yard\, 867 New Jersey Avenue Southeast\, Washington\, DC 20003\, Washington\, DC\, 20003\, US
ATTACH;FMTTYPE=image/png:https://flywheelllc.net/wp-content/uploads/2024/04/212512_image.png
END:VEVENT
BEGIN:VEVENT
DTSTART;VALUE=DATE:20230525
DTEND;VALUE=DATE:20230526
DTSTAMP:20260423T113230
CREATED:20220808T125912Z
LAST-MODIFIED:20221207T133834Z
UID:212398-1684972800-1685059199@flywheelllc.net
SUMMARY:20\,000 Scaleups Cohort
DESCRIPTION:Your 36-month journey will start just outside the nation’s capital\, in Arlington\, VA\, walking distance to Georgetown and Arlington National Cemetery and conveniently accessible to Washington National Airport (DCA). \nComing in May 2023. \nClick here for More information
URL:https://flywheelllc.net/event/20000-scaleups-cohort/
ATTACH;FMTTYPE=image/jpeg:https://flywheelllc.net/wp-content/uploads/2022/08/Arlington.jpg
END:VEVENT
BEGIN:VEVENT
DTSTART;TZID=America/New_York:20230222T083000
DTEND;TZID=America/New_York:20230222T163000
DTSTAMP:20260423T113230
CREATED:20220808T123744Z
LAST-MODIFIED:20221207T134008Z
UID:212383-1677054600-1677083400@flywheelllc.net
SUMMARY:Scaling Up Business Growth Workshop
DESCRIPTION:Discover how to Scale Up your business using the Scaling Up platform and Rockefeller Habits 2.0. \nThis world-renowned Scaling Up Business Growth Workshop empowers you to accelerate profitable growth using a time-tested and results-driven methodology that more than 40\,000 executives and their leadership teams have used to scale up smarter. There are critical decisions each company must get right to maximize revenue\, profit and time. \nClick here for more information
URL:https://flywheelllc.net/event/scaling-up-business-growth-workshop-3/
LOCATION:Eastport Yacht Club\, 317 First St\,\, Annapolis\, MD 21403\, Annapolis\, MD\, 21403\, US
ATTACH;FMTTYPE=image/png:https://flywheelllc.net/wp-content/uploads/2022/08/212383_image-1.png
END:VEVENT
BEGIN:VEVENT
DTSTART;TZID=America/New_York:20211021T083000
DTEND;TZID=America/New_York:20211021T160000
DTSTAMP:20260423T113230
CREATED:20210106T184918Z
LAST-MODIFIED:20220808T123837Z
UID:207510-1634805000-1634832000@flywheelllc.net
SUMMARY:Scaling Up Business Growth Workshop
DESCRIPTION:Scaling Up Business Growth Workshop for Business Leaders and their Teams Are you ready to grow your business and break through the barriers\n\n\n\nScaling Up Business Growth Workshop for Business Leaders and their Teams \nAre you ready to grow your business and break through the barriers to sustainable growth? \nDiscover how to Scale Up your business with Rockefeller Habits 2.0. \nThis world-renowned Scaling Up Business Growth Workshop empowers you to accelerate profitable growth using a time-tested and results-driven methodology that more than 40\,000 executives and their leadership teams have used to scale up smarter. There are critical decisions each company must get right to maximize revenue\, profit and time. This workshop will teach you tools to: \nALIGN \nGet faster results with less effort by developing organizational clarity and accountability. \nACCELERATE \nDevelop a strategic advantage over your competitors and position your brand as a market leader. \nADVANCE \nSee your company’s reputation and revenues soar as employees understand and fulfill 100% of your brand promises. \nUsing the Rockefeller Habits 2.0\, Gazelles Coaches have enabled companies to dominate their industries and make a bigger difference in the world.  \nWHO SHOULD ATTEND? \nThis course is open to business leaders interested in amplifying their success and scaling up their business via a proven growth framework.  We welcome leaders who are learners and are passionate about building a high performing organization through best practices and thought leadership.  As Scaling Up effectiveness is directly impacted by team cohesion\, we encourage leaders and senior teams to attend together to maximize the execution results and return on investment. \nWHAT YOU’LL LEARN IN THE WORKSHOP: \nIn just one day\, you will learn the essentials that make the Scaling Up system work.  Learn through best practices\, lectures\, videos\, hands-on exercises\, group discussions and coaching demonstrations. We’ll help you master the Four Decisions (People\, Strategy\, Execution and Cash) and give you the tools to strengthen alignment\, accountability and effectiveness within your organization. \n  \nGROWTH OUTCOMES \nWhen Scaling UP tools are successfully implemented\, scaling up businesses typically achieve: \n\n\n2X increase in cash flow\n\n\n3X industry profitability\n\n\nValuation increase compared to the competition\n\n\nMore time for the right things\, and\n\n\nEnjoying the climb to success!\n\n\n  \n  \n \nAll workshop participants will receive:\n\nA copy of the Scaling Up book\nThe One Page Strategic Plan and other important tools\nCompanies who bring 3 or more leaders will also receive a complimentary follow up coaching call to answer any additional questions and help ensure execution.\n\nSchedule: \n\nDoors open at 8:00 for registration and coffee.\nThe event will run from 8:30am to 4:30pm.\nLunch will be served. \n\nParking is available across the street at the East King Street Garage \nEmail questions to:  mark@flywheelllc.net \nPhone: 484-509-1214 \nWebsite: https://flywheelllc.net/ \n 
URL:https://flywheelllc.net/event/scaling-up-business-growth-workshop-2/
LOCATION:The Lancaster Chamber of Commerce Building\, 115 East King Street\, Lancaster\, PA 17602\, Lancaster\, PA\, 17602\, US
ATTACH;FMTTYPE=image/png:https://flywheelllc.net/wp-content/uploads/2021/01/207510_image.png
END:VEVENT
BEGIN:VEVENT
DTSTART;TZID=America/New_York:20210302T080000
DTEND;TZID=America/New_York:20210302T120000
DTSTAMP:20260423T113230
CREATED:20210106T184902Z
LAST-MODIFIED:20210106T184902Z
UID:207506-1614672000-1614686400@flywheelllc.net
SUMMARY:Scaling Up Business Growth Workshop (Virtual)
DESCRIPTION:Learn key techniques for building sustainable growth in this half-day interactive workshop\n\n\n\nScaling Up Business Growth Workshop for Business Leaders and their Teams \nAre you ready to grow your business and break through the barriers to sustainable growth? \nDiscover how to Scale Up your business with Rockefeller Habits 2.0. \nThis world-renowned Scaling Up Business Growth Workshop empowers you to accelerate profitable growth using a time-tested and results-driven methodology that more than 40\,000 executives and their leadership teams have used to scale up smarter. There are critical decisions each company must get right to maximize revenue\, profit and time. This workshop will teach you tools to: \nALIGN \nGet faster results with less effort by developing organizational clarity and accountability. \nACCELERATE \nDevelop a strategic advantage over your competitors and position your brand as a market leader. \nADVANCE \nSee your company’s reputation and revenues soar as employees understand and fulfill 100% of your brand promises. \nUsing the Rockefeller Habits 2.0\, Gazelles Coaches have enabled companies to dominate their industries and make a bigger difference in the world.  \nWHO SHOULD ATTEND? \nThis course is open to business leaders interested in amplifying their success and scaling up their business via a proven growth framework.  We welcome leaders who are learners and are passionate about building a high performing organization through best practices and thought leadership.  As Scaling Up effectiveness is directly impacted by team cohesion\, we encourage leaders and senior teams to attend together to maximize the execution results and return on investment. \nWHAT YOU’LL LEARN IN THE WORKSHOP: \nIn the workshop\, you will learn the essentials that make the Scaling Up system work.  Learn through best practices\, lectures\, videos\, hands-on exercises\, group discussions and coaching demonstrations. We’ll help you master the Four Decisions (People\, Strategy\, Execution and Cash) and give you the tools to strengthen alignment\, accountability and effectiveness within your organization. \n \nGROWTH OUTCOMES \nWhen Scaling UP tools are successfully implemented\, scaling up businesses typically achieve: \n\n\n2X increase in cash flow\n\n\n3X industry profitability\n\n\nValuation increase compared to the competition\n\n\nMore time for the right things\, and\n\n\nEnjoying the climb to success!\n\n\n\nAll workshop participants will receive:\n\nThe One Page Strategic Plan and other important Growth Tools\nA copy of the book\, Scaling Up\, by Verne Harnish (one per company)\nEach company will receive a complimentary follow up coaching call to answer any additional questions and help ensure execution.\nCertificate of Scaling Up Workshop Completion\n\nSchedule: \n\nThe event will run from 8:00am to 12:00 pm. \n\nEmail questions to:  mark@flywheelllc.net \nPhone: 484-509-1214 \nWebsite: https://flywheelllc.net/
URL:https://flywheelllc.net/event/scaling-up-business-growth-workshop-virtual/
ATTACH;FMTTYPE=image/png:https://flywheelllc.net/wp-content/uploads/2021/01/207506_image.png
END:VEVENT
BEGIN:VEVENT
DTSTART;TZID=America/New_York:20201027T083000
DTEND;TZID=America/New_York:20201027T123000
DTSTAMP:20260423T113231
CREATED:20200930T101531Z
LAST-MODIFIED:20200930T101531Z
UID:207497-1603787400-1603801800@flywheelllc.net
SUMMARY:Scaling Up Business Growth Workshop
DESCRIPTION:Learn key techniques for building sustainable growth in this half-day interactive workshop \n\n\n\nScaling Up Business Growth Workshop for Business Leaders and their Teams \nAre you ready to grow your business and break through the barriers to sustainable growth? \nDiscover how to Scale Up your business with Rockefeller Habits 2.0. \nThis world-renowned Scaling Up Business Growth Workshop empowers you to accelerate profitable growth using a time-tested and results-driven methodology that more than 30\,000 executives and their leadership teams have used to scale up smarter. There are critical decisions each company must get right to maximize revenue\, profit and time. This workshop will teach you tools to: \nALIGN \nGet faster results with less effort by developing organizational clarity and accountability. \nACCELERATE \nDevelop a strategic advantage over your competitors and position your brand as a market leader. \nADVANCE \nSee your company’s reputation and revenues soar as employees understand and fulfill 100% of your brand promises. \nUsing the Rockefeller Habits 2.0\, Gazelles Coaches have enabled companies to dominate their industries and make a bigger difference in the world.  \nWHO SHOULD ATTEND? \nThis course is open to business leaders interested in amplifying their success and scaling up their busines via a proven growth framework.  We welcome leaders who are learners and are passionate about builiding a high performing organization through best practices and thought leadership.  As Scaling Up effectiveness is directly impacted by team cohesion\, we encourge leaders and senior teams to attend together to maximize the execution results and return on investment. \nWHAT YOU’LL LEARN IN THE WORKSHOP: \nIn just one day\, you will learn the essentials that make the Scaling Up system work.  Learn through best practices\, lectures\, videos\, hands-on exercises\, group discussions and coaching demonstrations. We’ll help you master the Four Decisions (People\, Strategy\, Execution and Cash) and give you the tools to strengthen alignment\, accountability and effectiveness within your organization. \n \nGROWTH OUTCOMES \nWhen Scaling UP tools are successfully implmented\, scaling up buisnesses typically achieve: \n\n\n2X increase in cash flow\n\n\n3X industry profitability\n\n\nValuation increase compared to the competition\n\n\nMore time for the right things\, and\n\n\nEnjoying the climb to success!\n\n\n \n\nAll workshop participants will receive:\n\nThe One Page Strategic Plan and other important Growth Tools\nA copy of the book\, Scaling Up\, by Verne Harnish (one per company)\nEach company will receive a complimentary follow up coaching call to answer any additional questions and help ensure execution.\nCertificate of Scaling Up Workshop Completion\n\nSchedule: \n\nThe event will run from 8:30am to 12:30 pm. \n\nEmail questions to:  mark@flywheelllc.net \nPhone: 484-509-1214 \nWebsite: https://flywheelllc.net/
URL:https://flywheelllc.net/event/scaling-up-business-growth-workshop/
ATTACH;FMTTYPE=image/png:https://flywheelllc.net/wp-content/uploads/2020/09/207492_image.png
END:VEVENT
END:VCALENDAR